BEGIN:VCALENDAR
VERSION:2.0
PRODID:-//Europäischer Tag der Restaurierung / Journée européenne de la conservation-restauration / Giornata Europea del Restauro - ECPv6.15.20//NONSGML v1.0//EN
CALSCALE:GREGORIAN
METHOD:PUBLISH
X-WR-CALNAME:Europäischer Tag der Restaurierung / Journée européenne de la conservation-restauration / Giornata Europea del Restauro
X-ORIGINAL-URL:https://tag-der-restaurierung.ch
X-WR-CALDESC:Veranstaltungen für Europäischer Tag der Restaurierung / Journée européenne de la conservation-restauration / Giornata Europea del Restauro
REFRESH-INTERVAL;VALUE=DURATION:PT1H
X-Robots-Tag:noindex
X-PUBLISHED-TTL:PT1H
BEGIN:VTIMEZONE
TZID:Europe/Zurich
BEGIN:DAYLIGHT
TZOFFSETFROM:+0100
TZOFFSETTO:+0200
TZNAME:CEST
DTSTART:20240331T010000
END:DAYLIGHT
BEGIN:STANDARD
TZOFFSETFROM:+0200
TZOFFSETTO:+0100
TZNAME:CET
DTSTART:20241027T010000
END:STANDARD
BEGIN:DAYLIGHT
TZOFFSETFROM:+0100
TZOFFSETTO:+0200
TZNAME:CEST
DTSTART:20250330T010000
END:DAYLIGHT
BEGIN:STANDARD
TZOFFSETFROM:+0200
TZOFFSETTO:+0100
TZNAME:CET
DTSTART:20251026T010000
END:STANDARD
BEGIN:DAYLIGHT
TZOFFSETFROM:+0100
TZOFFSETTO:+0200
TZNAME:CEST
DTSTART:20260329T010000
END:DAYLIGHT
BEGIN:STANDARD
TZOFFSETFROM:+0200
TZOFFSETTO:+0100
TZNAME:CET
DTSTART:20261025T010000
END:STANDARD
END:VTIMEZONE
BEGIN:VEVENT
DTSTART;TZID=Europe/Zurich:20251019T140000
DTEND;TZID=Europe/Zurich:20251019T170000
DTSTAMP:20260423T181350
CREATED:20250704T102951Z
LAST-MODIFIED:20250829T152443Z
UID:10000082-1760882400-1760893200@tag-der-restaurierung.ch
SUMMARY:Museum der Kulturen Basel - Ausstellungsbesuch mit zwei Restauratorinnen
DESCRIPTION:Die Restauratorinnen des MKB geben an verschiedenen Stationen in der Ausstellung „Schöpfer*innen“ Einblick in ihre Arbeit.\nAn einem Deko-Objekt aus Mexiko dürfen sich sich an einer Retusche versuchen.\nMit Anne-Rose Bringel (Textilien) und Viera Kučera (Anorganik). \nDie Veranstaltung kann mit dem Museumsticket besucht werden. \n 
URL:https://tag-der-restaurierung.ch/event/museum-der-kulturen-basel/
LOCATION:Museum der Kulturen Basel\, Münsterplatz 20\, Basel\, Münsterplatz 20\, Basel\, Basel\, 4051
ATTACH;FMTTYPE=image/jpeg:https://tag-der-restaurierung.ch/wp-content/uploads/2025/07/Bild-28.07.25-um-19.04.jpeg
GEO:47.5571404;7.5908681
X-APPLE-STRUCTURED-LOCATION;VALUE=URI;X-ADDRESS=Museum der Kulturen Basel Münsterplatz 20 Basel Münsterplatz 20 Basel Basel 4051;X-APPLE-RADIUS=500;X-TITLE=Münsterplatz 20:geo:7.5908681,47.5571404
END:VEVENT
END:VCALENDAR