BEGIN:VCALENDAR
VERSION:2.0
PRODID:-//Europäischer Tag der Restaurierung / Journée européenne de la conservation-restauration / Giornata Europea del Restauro - ECPv6.15.20//NONSGML v1.0//EN
CALSCALE:GREGORIAN
METHOD:PUBLISH
X-WR-CALNAME:Europäischer Tag der Restaurierung / Journée européenne de la conservation-restauration / Giornata Europea del Restauro
X-ORIGINAL-URL:https://tag-der-restaurierung.ch
X-WR-CALDESC:Veranstaltungen für Europäischer Tag der Restaurierung / Journée européenne de la conservation-restauration / Giornata Europea del Restauro
REFRESH-INTERVAL;VALUE=DURATION:PT1H
X-Robots-Tag:noindex
X-PUBLISHED-TTL:PT1H
BEGIN:VTIMEZONE
TZID:Europe/Zurich
BEGIN:DAYLIGHT
TZOFFSETFROM:+0100
TZOFFSETTO:+0200
TZNAME:CEST
DTSTART:20230326T010000
END:DAYLIGHT
BEGIN:STANDARD
TZOFFSETFROM:+0200
TZOFFSETTO:+0100
TZNAME:CET
DTSTART:20231029T010000
END:STANDARD
BEGIN:DAYLIGHT
TZOFFSETFROM:+0100
TZOFFSETTO:+0200
TZNAME:CEST
DTSTART:20240331T010000
END:DAYLIGHT
BEGIN:STANDARD
TZOFFSETFROM:+0200
TZOFFSETTO:+0100
TZNAME:CET
DTSTART:20241027T010000
END:STANDARD
BEGIN:DAYLIGHT
TZOFFSETFROM:+0100
TZOFFSETTO:+0200
TZNAME:CEST
DTSTART:20250330T010000
END:DAYLIGHT
BEGIN:STANDARD
TZOFFSETFROM:+0200
TZOFFSETTO:+0100
TZNAME:CET
DTSTART:20251026T010000
END:STANDARD
END:VTIMEZONE
BEGIN:VEVENT
DTSTART;TZID=Europe/Zurich:20241020T160000
DTEND;TZID=Europe/Zurich:20241020T170000
DTSTAMP:20260423T181350
CREATED:20240829T072450Z
LAST-MODIFIED:20250806T083650Z
UID:10000054-1729440000-1729443600@tag-der-restaurierung.ch
SUMMARY:Baustellenführung am Berner Münster (16h00)
DESCRIPTION:Das Berner Münster wurde ab 1421 in mehreren Etappen über etwa 100 Jahre hinweg bis zur Höhe des unteren Turmachtecks errichtet. Nach einem längeren Bauunterbruch begannen um 1570 erneut umfangreiche Arbeiten am Münster. So wurde das Gewölbe des Mittelschiffs 1573 in beeindruckend kurzer Zeit nach den Plänen des Baumeisters Daniel Heintz d. Ä. errichtet und von dem Maler Martin Krumm ausgestaltet. Es handelt sich dabei um ein spätgotisches Netzgewölbe mit mauresken Ornamentmalereien an den Gewölbekappen sowie 16 polychrom gefassten Wappensteinen und einem Sprengring. \nIm Rahmen des seit 2021 laufenden Restaurierungsprojekts werden das Gewölbe und die Mittelschiffwände von der Münsterbauhütte\, einem Betrieb der Berner Münster-Stiftung\, umfassend konserviert\, restauriert und dokumentiert. \nAm Tag der Restaurierung öffnen wir unsere Baustellentüren und laden Sie auf geführten Rundgängen dazu ein\, das Gewölbe aus nächster Nähe zu betrachten. \n\nDer Zugang verläuft über ein 16 m hohes Gerüst – Bitte festes Schuhwerk anziehen.\nDauer 1h.\nBesammlung auf der Münsterplattform\, bei der Bauabschrankung (Münster-Südseite).\nDie Führungen finden um 12:00\, 13:00\, 14:00\, 15:00 und 16:00 Uhr auf Deutsch statt.\nDie Teilnehmerzahl ist pro Führung auf 25 Teilnehmer beschränkt; eine Anmeldung ist mit dem untenstehenden Formular erforderlich\, bzw. für andere Zeiten in der jeweiligen Veranstaltung im Programm\,
URL:https://tag-der-restaurierung.ch/event/baustellenfuehrung-am-berner-muenster-4/
LOCATION:Berner Münster-Stiftung\, Münsterplatz 1\, Bern\, Bern\, 3000\, Schweiz
CATEGORIES:Führung
ATTACH;FMTTYPE=image/jpeg:https://tag-der-restaurierung.ch/wp-content/uploads/2024/05/DSC9786_retuschiert-1-scaled.jpg
GEO:46.9472562;7.4515498
X-APPLE-STRUCTURED-LOCATION;VALUE=URI;X-ADDRESS=Berner Münster-Stiftung Münsterplatz 1 Bern Bern 3000 Schweiz;X-APPLE-RADIUS=500;X-TITLE=Münsterplatz 1:geo:7.4515498,46.9472562
END:VEVENT
BEGIN:VEVENT
DTSTART;TZID=Europe/Zurich:20241020T150000
DTEND;TZID=Europe/Zurich:20241020T160000
DTSTAMP:20260423T181350
CREATED:20240829T072415Z
LAST-MODIFIED:20240904T092237Z
UID:10000053-1729436400-1729440000@tag-der-restaurierung.ch
SUMMARY:Baustellenführung am Berner Münster (15h00)
DESCRIPTION:Das Berner Münster wurde ab 1421 in mehreren Etappen über etwa 100 Jahre hinweg bis zur Höhe des unteren Turmachtecks errichtet. Nach einem längeren Bauunterbruch begannen um 1570 erneut umfangreiche Arbeiten am Münster. So wurde das Gewölbe des Mittelschiffs 1573 in beeindruckend kurzer Zeit nach den Plänen des Baumeisters Daniel Heintz d. Ä. errichtet und von dem Maler Martin Krumm ausgestaltet. Es handelt sich dabei um ein spätgotisches Netzgewölbe mit mauresken Ornamentmalereien an den Gewölbekappen sowie 16 polychrom gefassten Wappensteinen und einem Sprengring. \nIm Rahmen des seit 2021 laufenden Restaurierungsprojekts werden das Gewölbe und die Mittelschiffwände von der Münsterbauhütte\, einem Betrieb der Berner Münster-Stiftung\, umfassend konserviert\, restauriert und dokumentiert. \nAm Tag der Restaurierung öffnen wir unsere Baustellentüren und laden Sie auf geführten Rundgängen dazu ein\, das Gewölbe aus nächster Nähe zu betrachten. \n\nDer Zugang verläuft über ein 16 m hohes Gerüst – Bitte festes Schuhwerk anziehen.\nDauer 1h.\nBesammlung auf der Münsterplattform\, bei der Bauabschrankung (Münster-Südseite).\nDie Führungen finden um 12:00\, 13:00\, 14:00\, 15:00 und 16:00 Uhr auf Deutsch statt.\nDie Teilnehmerzahl ist pro Führung auf 25 Teilnehmer beschränkt; eine Anmeldung ist mit dem untenstehenden Formular erforderlich\, bzw. für andere Zeiten in der jeweiligen Veranstaltung im Programm\,
URL:https://tag-der-restaurierung.ch/event/baustellenfuehrung-am-berner-muenster-3/
LOCATION:Berner Münster-Stiftung\, Münsterplatz 1\, Bern\, Bern\, 3000\, Schweiz
CATEGORIES:Führung
ATTACH;FMTTYPE=image/jpeg:https://tag-der-restaurierung.ch/wp-content/uploads/2024/05/DSC9786_retuschiert-1-scaled.jpg
GEO:46.9472562;7.4515498
X-APPLE-STRUCTURED-LOCATION;VALUE=URI;X-ADDRESS=Berner Münster-Stiftung Münsterplatz 1 Bern Bern 3000 Schweiz;X-APPLE-RADIUS=500;X-TITLE=Münsterplatz 1:geo:7.4515498,46.9472562
END:VEVENT
BEGIN:VEVENT
DTSTART;TZID=Europe/Zurich:20241020T140000
DTEND;TZID=Europe/Zurich:20241020T150000
DTSTAMP:20260423T181350
CREATED:20240829T073107Z
LAST-MODIFIED:20240829T073107Z
UID:10000055-1729432800-1729436400@tag-der-restaurierung.ch
SUMMARY:Baustellenführung am Berner Münster (14h00)
DESCRIPTION:Das Berner Münster wurde ab 1421 in mehreren Etappen über etwa 100 Jahre hinweg bis zur Höhe des unteren Turmachtecks errichtet. Nach einem längeren Bauunterbruch begannen um 1570 erneut umfangreiche Arbeiten am Münster. So wurde das Gewölbe des Mittelschiffs 1573 in beeindruckend kurzer Zeit nach den Plänen des Baumeisters Daniel Heintz d. Ä. errichtet und von dem Maler Martin Krumm ausgestaltet. Es handelt sich dabei um ein spätgotisches Netzgewölbe mit mauresken Ornamentmalereien an den Gewölbekappen sowie 16 polychrom gefassten Wappensteinen und einem Sprengring. \nIm Rahmen des seit 2021 laufenden Restaurierungsprojekts werden das Gewölbe und die Mittelschiffwände von der Münsterbauhütte\, einem Betrieb der Berner Münster-Stiftung\, umfassend konserviert\, restauriert und dokumentiert. \nAm Tag der Restaurierung öffnen wir unsere Baustellentüren und laden Sie auf geführten Rundgängen dazu ein\, das Gewölbe aus nächster Nähe zu betrachten. \n\nDer Zugang verläuft über ein 16 m hohes Gerüst – Bitte festes Schuhwerk anziehen.\nDauer 1h.\nBesammlung auf der Münsterplattform\, bei der Bauabschrankung (Münster-Südseite).\nDie Führungen finden um 12:00\, 13:00\, 14:00\, 15:00 und 16:00 Uhr auf Deutsch statt.\nDie Teilnehmerzahl ist pro Führung auf 25 Teilnehmer beschränkt; eine Anmeldung ist mit dem untenstehenden Formular erforderlich\, bzw. für andere Zeiten in der jeweiligen Veranstaltung im Programm\,
URL:https://tag-der-restaurierung.ch/event/baustellenfuehrung-am-berner-muenster-14h00/
LOCATION:Berner Münster-Stiftung\, Münsterplatz 1\, Bern\, Bern\, 3000\, Schweiz
CATEGORIES:Führung
ATTACH;FMTTYPE=image/jpeg:https://tag-der-restaurierung.ch/wp-content/uploads/2024/05/DSC9786_retuschiert-1-scaled.jpg
GEO:46.9472562;7.4515498
X-APPLE-STRUCTURED-LOCATION;VALUE=URI;X-ADDRESS=Berner Münster-Stiftung Münsterplatz 1 Bern Bern 3000 Schweiz;X-APPLE-RADIUS=500;X-TITLE=Münsterplatz 1:geo:7.4515498,46.9472562
END:VEVENT
BEGIN:VEVENT
DTSTART;TZID=Europe/Zurich:20241020T130000
DTEND;TZID=Europe/Zurich:20241020T140000
DTSTAMP:20260423T181350
CREATED:20240829T072333Z
LAST-MODIFIED:20240904T092302Z
UID:10000052-1729429200-1729432800@tag-der-restaurierung.ch
SUMMARY:Baustellenführung am Berner Münster (13h00)
DESCRIPTION:Das Berner Münster wurde ab 1421 in mehreren Etappen über etwa 100 Jahre hinweg bis zur Höhe des unteren Turmachtecks errichtet. Nach einem längeren Bauunterbruch begannen um 1570 erneut umfangreiche Arbeiten am Münster. So wurde das Gewölbe des Mittelschiffs 1573 in beeindruckend kurzer Zeit nach den Plänen des Baumeisters Daniel Heintz d. Ä. errichtet und von dem Maler Martin Krumm ausgestaltet. Es handelt sich dabei um ein spätgotisches Netzgewölbe mit mauresken Ornamentmalereien an den Gewölbekappen sowie 16 polychrom gefassten Wappensteinen und einem Sprengring. \nIm Rahmen des seit 2021 laufenden Restaurierungsprojekts werden das Gewölbe und die Mittelschiffwände von der Münsterbauhütte\, einem Betrieb der Berner Münster-Stiftung\, umfassend konserviert\, restauriert und dokumentiert. \nAm Tag der Restaurierung öffnen wir unsere Baustellentüren und laden Sie auf geführten Rundgängen dazu ein\, das Gewölbe aus nächster Nähe zu betrachten. \n\nDer Zugang verläuft über ein 16 m hohes Gerüst – Bitte festes Schuhwerk anziehen.\nDauer 1h.\nBesammlung auf der Münsterplattform\, bei der Bauabschrankung (Münster-Südseite).\nDie Führungen finden um 12:00\, 13:00\, 14:00\, 15:00 und 16:00 Uhr auf Deutsch statt.\nDie Teilnehmerzahl ist pro Führung auf 25 Teilnehmer beschränkt; eine Anmeldung ist mit dem untenstehenden Formular erforderlich\, bzw. für andere Zeiten in der jeweiligen Veranstaltung im Programm\,
URL:https://tag-der-restaurierung.ch/event/baustellenfuehrung-am-berner-muenster-2/
LOCATION:Berner Münster-Stiftung\, Münsterplatz 1\, Bern\, Bern\, 3000\, Schweiz
CATEGORIES:Führung
ATTACH;FMTTYPE=image/jpeg:https://tag-der-restaurierung.ch/wp-content/uploads/2024/05/DSC9786_retuschiert-1-scaled.jpg
GEO:46.9472562;7.4515498
X-APPLE-STRUCTURED-LOCATION;VALUE=URI;X-ADDRESS=Berner Münster-Stiftung Münsterplatz 1 Bern Bern 3000 Schweiz;X-APPLE-RADIUS=500;X-TITLE=Münsterplatz 1:geo:7.4515498,46.9472562
END:VEVENT
BEGIN:VEVENT
DTSTART;TZID=Europe/Zurich:20241020T120000
DTEND;TZID=Europe/Zurich:20241020T130000
DTSTAMP:20260423T181350
CREATED:20240508T091626Z
LAST-MODIFIED:20240904T092325Z
UID:10000029-1729425600-1729429200@tag-der-restaurierung.ch
SUMMARY:Baustellenführung am Berner Münster (12h00)
DESCRIPTION:Das Berner Münster wurde ab 1421 in mehreren Etappen über etwa 100 Jahre hinweg bis zur Höhe des unteren Turmachtecks errichtet. Nach einem längeren Bauunterbruch begannen um 1570 erneut umfangreiche Arbeiten am Münster. So wurde das Gewölbe des Mittelschiffs 1573 in beeindruckend kurzer Zeit nach den Plänen des Baumeisters Daniel Heintz d. Ä. errichtet und von dem Maler Martin Krumm ausgestaltet. Es handelt sich dabei um ein spätgotisches Netzgewölbe mit mauresken Ornamentmalereien an den Gewölbekappen sowie 16 polychrom gefassten Wappensteinen und einem Sprengring. \nIm Rahmen des seit 2021 laufenden Restaurierungsprojekts werden das Gewölbe und die Mittelschiffwände von der Münsterbauhütte\, einem Betrieb der Berner Münster-Stiftung\, umfassend konserviert\, restauriert und dokumentiert. \nAm Tag der Restaurierung öffnen wir unsere Baustellentüren und laden Sie auf geführten Rundgängen dazu ein\, das Gewölbe aus nächster Nähe zu betrachten. \n\nDer Zugang verläuft über ein 16 m hohes Gerüst – Bitte festes Schuhwerk anziehen.\nDauer 1h.\nBesammlung auf der Münsterplattform\, bei der Bauabschrankung (Münster-Südseite).\nDie Führungen finden um 12:00\, 13:00\, 14:00\, 15:00 und 16:00 Uhr auf Deutsch statt.\nDie Teilnehmerzahl ist pro Führung auf 25 Teilnehmer beschränkt; eine Anmeldung ist mit dem untenstehenden Formular erforderlich\, bzw. für andere Zeiten in der jeweiligen Veranstaltung im Programm\,
URL:https://tag-der-restaurierung.ch/event/baustellenfuehrung-am-berner-muenster/
LOCATION:Berner Münster-Stiftung\, Münsterplatz 1\, Bern\, Bern\, 3000\, Schweiz
CATEGORIES:Führung
ATTACH;FMTTYPE=image/jpeg:https://tag-der-restaurierung.ch/wp-content/uploads/2024/05/DSC9786_retuschiert-1-scaled.jpg
GEO:46.9472562;7.4515498
X-APPLE-STRUCTURED-LOCATION;VALUE=URI;X-ADDRESS=Berner Münster-Stiftung Münsterplatz 1 Bern Bern 3000 Schweiz;X-APPLE-RADIUS=500;X-TITLE=Münsterplatz 1:geo:7.4515498,46.9472562
END:VEVENT
END:VCALENDAR