BEGIN:VCALENDAR
VERSION:2.0
PRODID:-//Europäischer Tag der Restaurierung / Journée européenne de la conservation-restauration / Giornata Europea del Restauro - ECPv6.15.20//NONSGML v1.0//EN
CALSCALE:GREGORIAN
METHOD:PUBLISH
X-ORIGINAL-URL:https://tag-der-restaurierung.ch
X-WR-CALDESC:Veranstaltungen für Europäischer Tag der Restaurierung / Journée européenne de la conservation-restauration / Giornata Europea del Restauro
REFRESH-INTERVAL;VALUE=DURATION:PT1H
X-Robots-Tag:noindex
X-PUBLISHED-TTL:PT1H
BEGIN:VTIMEZONE
TZID:Europe/Zurich
BEGIN:DAYLIGHT
TZOFFSETFROM:+0100
TZOFFSETTO:+0200
TZNAME:CEST
DTSTART:20230326T010000
END:DAYLIGHT
BEGIN:STANDARD
TZOFFSETFROM:+0200
TZOFFSETTO:+0100
TZNAME:CET
DTSTART:20231029T010000
END:STANDARD
BEGIN:DAYLIGHT
TZOFFSETFROM:+0100
TZOFFSETTO:+0200
TZNAME:CEST
DTSTART:20240331T010000
END:DAYLIGHT
BEGIN:STANDARD
TZOFFSETFROM:+0200
TZOFFSETTO:+0100
TZNAME:CET
DTSTART:20241027T010000
END:STANDARD
BEGIN:DAYLIGHT
TZOFFSETFROM:+0100
TZOFFSETTO:+0200
TZNAME:CEST
DTSTART:20250330T010000
END:DAYLIGHT
BEGIN:STANDARD
TZOFFSETFROM:+0200
TZOFFSETTO:+0100
TZNAME:CET
DTSTART:20251026T010000
END:STANDARD
END:VTIMEZONE
BEGIN:VEVENT
DTSTART;TZID=Europe/Zurich:20241020T110000
DTEND;TZID=Europe/Zurich:20241020T150000
DTSTAMP:20260423T195142
CREATED:20240915T170938Z
LAST-MODIFIED:20240915T170938Z
UID:10000059-1729422000-1729436400@tag-der-restaurierung.ch
SUMMARY:Tag der offenen Tür / Journée porte ouverte
DESCRIPTION:Zum dritten Mal öffnen wir zum Europäischen Tag der Restaurierung unser Restaurierungsatelier für alle neugierigen und interessierten BesucherInnen. \nDas Atelier 40a ist ein Restaurierungskollektiv und besteht aus freiberuflichen Restauratorinnen und Restauratoren mit unterschiedlichen Spezialisierungen. Im Atelier werden Werke auf Papier\, Skulpturen\, Gemälde und Medienkunstwerke erhalten\, dokumentiert und restauriert. Bei einem Besuch erhalten Sie einen Einblick in laufende oder vergangene Projekte der RestauratorInnen. \n\nPour la troisième fois\, à l’occasion de la Journée européenne de la restauration\, nous ouvrons notre atelier de restauration à toutes les personnes curieuses et intéressées. \nL’Atelier 40a est un collectif de restauration composé de restaurateur:trices indépendant:es avec des spécialisations diverses. Nous préservons\, documentons et restaurons des œuvres sur papier\, des sculptures\, des peintures et des œuvres d’art médiatiques. Lors d’une visite\, vous aurez un aperçu de nos projets en cours ou passés.
URL:https://tag-der-restaurierung.ch/event/tag-der-offenen-tuer-journee-porte-ouverte/
LOCATION:Atelier 40a\, Militärstrasse 40A\, Bern\, Bern\, 3014
CATEGORIES:Offene Türen
ATTACH;FMTTYPE=image/jpeg:https://tag-der-restaurierung.ch/wp-content/uploads/2024/05/A40a_2024.jpeg
GEO:46.9589432;7.4574722
X-APPLE-STRUCTURED-LOCATION;VALUE=URI;X-ADDRESS=Atelier 40a Militärstrasse 40A Bern Bern 3014;X-APPLE-RADIUS=500;X-TITLE=Militärstrasse 40A:geo:7.4574722,46.9589432
END:VEVENT
END:VCALENDAR